BEGIN:VCALENDAR
VERSION:2.0
PRODID:-//Musikverein Harmonie Pfronten e.V. - ECPv6.15.17//NONSGML v1.0//EN
CALSCALE:GREGORIAN
METHOD:PUBLISH
X-WR-CALNAME:Musikverein Harmonie Pfronten e.V.
X-ORIGINAL-URL:https://musikverein-pfronten.de
X-WR-CALDESC:Veranstaltungen für Musikverein Harmonie Pfronten e.V.
REFRESH-INTERVAL;VALUE=DURATION:PT1H
X-Robots-Tag:noindex
X-PUBLISHED-TTL:PT1H
BEGIN:VTIMEZONE
TZID:Europe/Berlin
BEGIN:DAYLIGHT
TZOFFSETFROM:+0100
TZOFFSETTO:+0200
TZNAME:CEST
DTSTART:20220327T010000
END:DAYLIGHT
BEGIN:STANDARD
TZOFFSETFROM:+0200
TZOFFSETTO:+0100
TZNAME:CET
DTSTART:20221030T010000
END:STANDARD
BEGIN:DAYLIGHT
TZOFFSETFROM:+0100
TZOFFSETTO:+0200
TZNAME:CEST
DTSTART:20230326T010000
END:DAYLIGHT
BEGIN:STANDARD
TZOFFSETFROM:+0200
TZOFFSETTO:+0100
TZNAME:CET
DTSTART:20231029T010000
END:STANDARD
BEGIN:DAYLIGHT
TZOFFSETFROM:+0100
TZOFFSETTO:+0200
TZNAME:CEST
DTSTART:20240331T010000
END:DAYLIGHT
BEGIN:STANDARD
TZOFFSETFROM:+0200
TZOFFSETTO:+0100
TZNAME:CET
DTSTART:20241027T010000
END:STANDARD
END:VTIMEZONE
BEGIN:VEVENT
DTSTART;TZID=Europe/Berlin:20230616T150000
DTEND;TZID=Europe/Berlin:20230616T180000
DTSTAMP:20260419T194519
CREATED:20230418T192517Z
LAST-MODIFIED:20230420T192058Z
UID:890-1686927600-1686938400@musikverein-pfronten.de
SUMMARY:Vorstellung Instrumente MuKi 2023
DESCRIPTION:Uhrzeit: 15 bis 18 Uhr \nOrt: Musikheim Pfronten-Weißbach neben Trigema (Adresse im Menupunkt „Kontakt“)
URL:https://musikverein-pfronten.de/event/vorstellung-instrumente-muki-2023/
CATEGORIES:Besetzung: MuKi
ATTACH;FMTTYPE=image/png:https://musikverein-pfronten.de/wp-content/uploads/2023/04/Muki-Flyer_2023.png
END:VEVENT
BEGIN:VEVENT
DTSTART;TZID=Europe/Berlin:20230617T130000
DTEND;TZID=Europe/Berlin:20230617T170000
DTSTAMP:20260419T194519
CREATED:20230418T192648Z
LAST-MODIFIED:20230420T192021Z
UID:892-1687006800-1687021200@musikverein-pfronten.de
SUMMARY:Klingender Kurpark: Infostand MuKi 2023
DESCRIPTION:An unserem Infostand könnt ihr mit uns über das MuKi Angebot sprechen. Wir freuen uns auf euren Besuch. \nUhrzeit: nachmittags \nOrt: Kurpark Pfronten-Heitlern
URL:https://musikverein-pfronten.de/event/klingender-kurpark-infostand-muki-2023/
CATEGORIES:Besetzung: MuKi
END:VEVENT
END:VCALENDAR