BEGIN:VCALENDAR
VERSION:2.0
PRODID:-//Musikverein Harmonie Pfronten e.V. - ECPv6.15.17//NONSGML v1.0//EN
CALSCALE:GREGORIAN
METHOD:PUBLISH
X-ORIGINAL-URL:https://musikverein-pfronten.de
X-WR-CALDESC:Veranstaltungen für Musikverein Harmonie Pfronten e.V.
REFRESH-INTERVAL;VALUE=DURATION:PT1H
X-Robots-Tag:noindex
X-PUBLISHED-TTL:PT1H
BEGIN:VTIMEZONE
TZID:Europe/Berlin
BEGIN:DAYLIGHT
TZOFFSETFROM:+0100
TZOFFSETTO:+0200
TZNAME:CEST
DTSTART:20230326T010000
END:DAYLIGHT
BEGIN:STANDARD
TZOFFSETFROM:+0200
TZOFFSETTO:+0100
TZNAME:CET
DTSTART:20231029T010000
END:STANDARD
BEGIN:DAYLIGHT
TZOFFSETFROM:+0100
TZOFFSETTO:+0200
TZNAME:CEST
DTSTART:20240331T010000
END:DAYLIGHT
BEGIN:STANDARD
TZOFFSETFROM:+0200
TZOFFSETTO:+0100
TZNAME:CET
DTSTART:20241027T010000
END:STANDARD
BEGIN:DAYLIGHT
TZOFFSETFROM:+0100
TZOFFSETTO:+0200
TZNAME:CEST
DTSTART:20250330T010000
END:DAYLIGHT
BEGIN:STANDARD
TZOFFSETFROM:+0200
TZOFFSETTO:+0100
TZNAME:CET
DTSTART:20251026T010000
END:STANDARD
END:VTIMEZONE
BEGIN:VEVENT
DTSTART;TZID=Europe/Berlin:20240602T133000
DTEND;TZID=Europe/Berlin:20240602T153000
DTSTAMP:20260421T125105
CREATED:20231216T152657Z
LAST-MODIFIED:20231216T152741Z
UID:1188-1717335000-1717342200@musikverein-pfronten.de
SUMMARY:Festumzug Bezirksmusikfest Steingaden
DESCRIPTION:Die Harmoniemusik Pfronten ist Teil des Festumzugs am Bezirksmusikfest in Steingaden. \nWeitere Infos: https://musikverein-steingaden.de/jubilaeumsfest/
URL:https://musikverein-pfronten.de/event/festumzug-bezirksmusikfest-steingaden/
CATEGORIES:Besetzung: Harmonie
ATTACH;FMTTYPE=image/jpeg:https://musikverein-pfronten.de/wp-content/uploads/2023/09/254303c0-5419-4491-80d5-3fa2d864c7d6.jpg
END:VEVENT
END:VCALENDAR