BEGIN:VCALENDAR
VERSION:2.0
PRODID:-//Musikverein Harmonie Pfronten e.V. - ECPv6.15.17//NONSGML v1.0//EN
CALSCALE:GREGORIAN
METHOD:PUBLISH
X-WR-CALNAME:Musikverein Harmonie Pfronten e.V.
X-ORIGINAL-URL:https://musikverein-pfronten.de
X-WR-CALDESC:Veranstaltungen für Musikverein Harmonie Pfronten e.V.
REFRESH-INTERVAL;VALUE=DURATION:PT1H
X-Robots-Tag:noindex
X-PUBLISHED-TTL:PT1H
BEGIN:VTIMEZONE
TZID:Europe/Berlin
BEGIN:DAYLIGHT
TZOFFSETFROM:+0100
TZOFFSETTO:+0200
TZNAME:CEST
DTSTART:20230326T010000
END:DAYLIGHT
BEGIN:STANDARD
TZOFFSETFROM:+0200
TZOFFSETTO:+0100
TZNAME:CET
DTSTART:20231029T010000
END:STANDARD
BEGIN:DAYLIGHT
TZOFFSETFROM:+0100
TZOFFSETTO:+0200
TZNAME:CEST
DTSTART:20240331T010000
END:DAYLIGHT
BEGIN:STANDARD
TZOFFSETFROM:+0200
TZOFFSETTO:+0100
TZNAME:CET
DTSTART:20241027T010000
END:STANDARD
BEGIN:DAYLIGHT
TZOFFSETFROM:+0100
TZOFFSETTO:+0200
TZNAME:CEST
DTSTART:20250330T010000
END:DAYLIGHT
BEGIN:STANDARD
TZOFFSETFROM:+0200
TZOFFSETTO:+0100
TZNAME:CET
DTSTART:20251026T010000
END:STANDARD
END:VTIMEZONE
BEGIN:VEVENT
DTSTART;TZID=Europe/Berlin:20240724T180000
DTEND;TZID=Europe/Berlin:20240724T190000
DTSTAMP:20260421T142810
CREATED:20240714T121631Z
LAST-MODIFIED:20240714T121631Z
UID:1242-1721844000-1721847600@musikverein-pfronten.de
SUMMARY:Jugendkapelle (Juka) am Gasthaus Wiesele
DESCRIPTION:Die Juka musiziert am Mittwochabend beim Gasthaus Wiesele in Pfronten. Wir freuen uns auf Ihr Kommen.
URL:https://musikverein-pfronten.de/event/jugendkapelle-juka-am-gasthaus-wiesele/
CATEGORIES:Besetzung: Juka
END:VEVENT
END:VCALENDAR