BEGIN:VCALENDAR
VERSION:2.0
PRODID:-//Musikverein Harmonie Pfronten e.V. - ECPv6.15.17//NONSGML v1.0//EN
CALSCALE:GREGORIAN
METHOD:PUBLISH
X-ORIGINAL-URL:https://musikverein-pfronten.de
X-WR-CALDESC:Veranstaltungen für Musikverein Harmonie Pfronten e.V.
REFRESH-INTERVAL;VALUE=DURATION:PT1H
X-Robots-Tag:noindex
X-PUBLISHED-TTL:PT1H
BEGIN:VTIMEZONE
TZID:Europe/Berlin
BEGIN:DAYLIGHT
TZOFFSETFROM:+0100
TZOFFSETTO:+0200
TZNAME:CEST
DTSTART:20230326T010000
END:DAYLIGHT
BEGIN:STANDARD
TZOFFSETFROM:+0200
TZOFFSETTO:+0100
TZNAME:CET
DTSTART:20231029T010000
END:STANDARD
BEGIN:DAYLIGHT
TZOFFSETFROM:+0100
TZOFFSETTO:+0200
TZNAME:CEST
DTSTART:20240331T010000
END:DAYLIGHT
BEGIN:STANDARD
TZOFFSETFROM:+0200
TZOFFSETTO:+0100
TZNAME:CET
DTSTART:20241027T010000
END:STANDARD
BEGIN:DAYLIGHT
TZOFFSETFROM:+0100
TZOFFSETTO:+0200
TZNAME:CEST
DTSTART:20250330T010000
END:DAYLIGHT
BEGIN:STANDARD
TZOFFSETFROM:+0200
TZOFFSETTO:+0100
TZNAME:CET
DTSTART:20251026T010000
END:STANDARD
END:VTIMEZONE
BEGIN:VEVENT
DTSTART;TZID=Europe/Berlin:20241005T180000
DTEND;TZID=Europe/Berlin:20241005T200000
DTSTAMP:20260421T180412
CREATED:20231216T155812Z
LAST-MODIFIED:20231216T155812Z
UID:1202-1728151200-1728158400@musikverein-pfronten.de
SUMMARY:Festmesse 100 Jahre d'Kienbergler
DESCRIPTION:Vorabendmesse in der Pfarrkirche St. Nikolaus\, anschliessendes Marschieren zum Pfarrheim mit Ständchen am Pfarrheim
URL:https://musikverein-pfronten.de/event/festmesse-100-jahre-dkienbergler/
END:VEVENT
END:VCALENDAR