BEGIN:VCALENDAR
VERSION:2.0
PRODID:-//Musikverein Harmonie Pfronten e.V. - ECPv6.15.17//NONSGML v1.0//EN
CALSCALE:GREGORIAN
METHOD:PUBLISH
X-WR-CALNAME:Musikverein Harmonie Pfronten e.V.
X-ORIGINAL-URL:https://musikverein-pfronten.de
X-WR-CALDESC:Veranstaltungen für Musikverein Harmonie Pfronten e.V.
REFRESH-INTERVAL;VALUE=DURATION:PT1H
X-Robots-Tag:noindex
X-PUBLISHED-TTL:PT1H
BEGIN:VTIMEZONE
TZID:Europe/Berlin
BEGIN:DAYLIGHT
TZOFFSETFROM:+0100
TZOFFSETTO:+0200
TZNAME:CEST
DTSTART:20240331T010000
END:DAYLIGHT
BEGIN:STANDARD
TZOFFSETFROM:+0200
TZOFFSETTO:+0100
TZNAME:CET
DTSTART:20241027T010000
END:STANDARD
BEGIN:DAYLIGHT
TZOFFSETFROM:+0100
TZOFFSETTO:+0200
TZNAME:CEST
DTSTART:20250330T010000
END:DAYLIGHT
BEGIN:STANDARD
TZOFFSETFROM:+0200
TZOFFSETTO:+0100
TZNAME:CET
DTSTART:20251026T010000
END:STANDARD
BEGIN:DAYLIGHT
TZOFFSETFROM:+0100
TZOFFSETTO:+0200
TZNAME:CEST
DTSTART:20260329T010000
END:DAYLIGHT
BEGIN:STANDARD
TZOFFSETFROM:+0200
TZOFFSETTO:+0100
TZNAME:CET
DTSTART:20261025T010000
END:STANDARD
END:VTIMEZONE
BEGIN:VEVENT
DTSTART;TZID=Europe/Berlin:20250119T110000
DTEND;TZID=Europe/Berlin:20250119T123000
DTSTAMP:20260421T205402
CREATED:20241226T122116Z
LAST-MODIFIED:20241226T122116Z
UID:1248-1737284400-1737289800@musikverein-pfronten.de
SUMMARY:Neujahrsempfang
DESCRIPTION:Die Harmoniemusik gestaltet den Neujahrsempfang der Gemeinde Pfronten. Er findet im Pfarrheim St. Nikolaus statt.
URL:https://musikverein-pfronten.de/event/neujahrsempfang/
LOCATION:Pfarrheim St. Nikolaus Pfronten
CATEGORIES:Besetzung: Harmonie
END:VEVENT
END:VCALENDAR